1.0000000000
0.0000000000
0.0000000000
-1.0000000000
489466.5000000000
4740305.5000000000
