1.0000000000
0.0000000000
0.0000000000
-1.0000000000
422895.5000000000
4733783.5000000000
