1.0000000000
0.0000000000
0.0000000000
-1.0000000000
417693.5000000000
4726901.5000000000
