1.0000000000
0.0000000000
0.0000000000
-1.0000000000
433135.5000000000
4733677.5000000000
