1.0000000000
0.0000000000
0.0000000000
-1.0000000000
433068.5000000000
4726737.5000000000
