1.0000000000
0.0000000000
0.0000000000
-1.0000000000
443375.5000000000
4733586.5000000000
