1.0000000000
0.0000000000
0.0000000000
-1.0000000000
438255.5000000000
4733630.5000000000
