1.0000000000
0.0000000000
0.0000000000
-1.0000000000
443319.5000000000
4726646.5000000000
