1.0000000000
0.0000000000
0.0000000000
-1.0000000000
438194.5000000000
4726689.5000000000
