1.0000000000
0.0000000000
0.0000000000
-1.0000000000
453615.5000000000
4733510.5000000000
