1.0000000000
0.0000000000
0.0000000000
-1.0000000000
448495.5000000000
4733546.5000000000
