1.0000000000
0.0000000000
0.0000000000
-1.0000000000
463855.5000000000
4733450.5000000000
