1.0000000000
0.0000000000
0.0000000000
-1.0000000000
468975.5000000000
4733425.5000000000
