1.0000000000
0.0000000000
0.0000000000
-1.0000000000
468945.5000000000
4726485.5000000000
