1.0000000000
0.0000000000
0.0000000000
-1.0000000000
484335.5000000000
4733374.5000000000
