1.0000000000
0.0000000000
0.0000000000
-1.0000000000
484320.5000000000
4726434.5000000000
