1.0000000000
0.0000000000
0.0000000000
-1.0000000000
479195.5000000000
4726447.5000000000
