1.0000000000
0.0000000000
0.0000000000
-1.0000000000
494575.5000000000
4733359.5000000000
