1.0000000000
0.0000000000
0.0000000000
-1.0000000000
494570.5000000000
4726419.5000000000
