1.0000000000
0.0000000000
0.0000000000
-1.0000000000
422741.5000000000
4719902.5000000000
