1.0000000000
0.0000000000
0.0000000000
-1.0000000000
422664.5000000000
4712962.5000000000
