1.0000000000
0.0000000000
0.0000000000
-1.0000000000
341611.5000000000
4762940.5000000000
