1.0000000000
0.0000000000
0.0000000000
-1.0000000000
336511.5000000000
4763059.5000000000
