1.0000000000
0.0000000000
0.0000000000
-1.0000000000
351810.5000000000
4762712.5000000000
