1.0000000000
0.0000000000
0.0000000000
-1.0000000000
346556.5000000000
4755883.5000000000
