1.0000000000
0.0000000000
0.0000000000
-1.0000000000
356765.5000000000
4755663.5000000000
