1.0000000000
0.0000000000
0.0000000000
-1.0000000000
372209.5000000000
4762303.5000000000
