1.0000000000
0.0000000000
0.0000000000
-1.0000000000
367109.5000000000
4762399.5000000000
