1.0000000000
0.0000000000
0.0000000000
-1.0000000000
366975.5000000000
4755459.5000000000
