1.0000000000
0.0000000000
0.0000000000
-1.0000000000
382408.5000000000
4762121.5000000000
