1.0000000000
0.0000000000
0.0000000000
-1.0000000000
382289.5000000000
4755180.5000000000
