1.0000000000
0.0000000000
0.0000000000
-1.0000000000
392607.5000000000
4761954.5000000000
