1.0000000000
0.0000000000
0.0000000000
-1.0000000000
392498.5000000000
4755013.5000000000
