1.0000000000
0.0000000000
0.0000000000
-1.0000000000
387394.5000000000
4755095.5000000000
