1.0000000000
0.0000000000
0.0000000000
-1.0000000000
402806.5000000000
4761802.5000000000
