1.0000000000
0.0000000000
0.0000000000
-1.0000000000
397706.5000000000
4761876.5000000000
