1.0000000000
0.0000000000
0.0000000000
-1.0000000000
402708.5000000000
4754862.5000000000
