1.0000000000
0.0000000000
0.0000000000
-1.0000000000
407905.5000000000
4761732.5000000000
