1.0000000000
0.0000000000
0.0000000000
-1.0000000000
336017.5000000000
4742237.5000000000
