1.0000000000
0.0000000000
0.0000000000
-1.0000000000
351511.5000000000
4748831.5000000000
