1.0000000000
0.0000000000
0.0000000000
-1.0000000000
351362.5000000000
4741890.5000000000
