1.0000000000
0.0000000000
0.0000000000
-1.0000000000
361592.5000000000
4741678.5000000000
