1.0000000000
0.0000000000
0.0000000000
-1.0000000000
356477.5000000000
4741782.5000000000
