1.0000000000
0.0000000000
0.0000000000
-1.0000000000
371951.5000000000
4748422.5000000000
