1.0000000000
0.0000000000
0.0000000000
-1.0000000000
371822.5000000000
4741481.5000000000
