1.0000000000
0.0000000000
0.0000000000
-1.0000000000
366707.5000000000
4741578.5000000000
