1.0000000000
0.0000000000
0.0000000000
-1.0000000000
382052.5000000000
4741299.5000000000
