1.0000000000
0.0000000000
0.0000000000
-1.0000000000
387280.5000000000
4748154.5000000000
