1.0000000000
0.0000000000
0.0000000000
-1.0000000000
392282.5000000000
4741132.5000000000
