1.0000000000
0.0000000000
0.0000000000
-1.0000000000
402512.5000000000
4740981.5000000000
